BEGIN:VCALENDAR
VERSION:2.0
PRODID:-//ChamberMaster//Event Calendar 2.0//EN
METHOD:PUBLISH
X-PUBLISHED-TTL:P3D
REFRESH-INTERVAL:P3D
CALSCALE:GREGORIAN
BEGIN:VEVENT
DTSTART:20220512T213000Z
DTEND:20220513T003000Z
X-MICROSOFT-CDO-ALLDAYEVENT:FALSE
SUMMARY:BACK 2 BUSINESS NETWORKING EVENT
DESCRIPTION:ALL MEMBERS AND NON-MEMBERS ARE CORDIALLY INVITED!!\nStop by\, enjoy some delicious appetizers and take some time to network with other Bayonne business people. \n\n\n\nLet's get together to catch up\, share ideas\, and most importantly let us know how the Bayonne Chamber can help your business.
X-ALT-DESC;FMTTYPE=text/html:<h2 style="font-style:italic\;"><span style="font-family:arial\;"><span style="color:#008080\;"><strong>ALL MEMBERS AND NON-MEMBERS ARE CORDIALLY INVITED!!</strong></span></span></h2>\n<span style="font-family:arial\;"><span style="font-size:18px\;">Stop by\, enjoy some delicious appetizers and take some time to network with other Bayonne business people.&nbsp\;<br />\n<br />\nLet&#39\;s get together to catch up\, share ideas\, and most importantly let us know how the Bayonne Chamber can help your business.</span></span>
LOCATION:KP Sarelli's 241 Broadway Bayonne\, NJ 07002
UID:e.604.2697
SEQUENCE:3
DTSTAMP:20260420T132908Z
URL:http://www.bayonnechamber.org/events/details/back-2-business-networking-event-2697
END:VEVENT

END:VCALENDAR
