BEGIN:VCALENDAR
VERSION:2.0
PRODID:-//ChamberMaster//Event Calendar 2.0//EN
METHOD:PUBLISH
X-PUBLISHED-TTL:P3D
REFRESH-INTERVAL:P3D
CALSCALE:GREGORIAN
BEGIN:VEVENT
DTSTART:20220202T170000Z
DTEND:20220202T180000Z
X-MICROSOFT-CDO-ALLDAYEVENT:FALSE
SUMMARY:Board of Trustees Meeting
DESCRIPTION:
X-ALT-DESC;FMTTYPE=text/html:
LOCATION:
UID:e.604.2671
SEQUENCE:3
DTSTAMP:20260420T105240Z
URL:http://www.bayonnechamber.org/events/details/board-of-trustees-meeting-2671
END:VEVENT

END:VCALENDAR
