BEGIN:VCALENDAR
VERSION:2.0
PRODID:-//ChamberMaster//Event Calendar 2.0//EN
METHOD:PUBLISH
X-PUBLISHED-TTL:P3D
REFRESH-INTERVAL:P3D
CALSCALE:GREGORIAN
BEGIN:VEVENT
DTSTART:20220406T150000Z
DTEND:20220406T160000Z
X-MICROSOFT-CDO-ALLDAYEVENT:FALSE
SUMMARY:Executive Board Meeting
DESCRIPTION:
X-ALT-DESC;FMTTYPE=text/html:
LOCATION:
UID:e.604.2689
SEQUENCE:3
DTSTAMP:20260420T115630Z
URL:http://www.bayonnechamber.org/events/details/executive-board-meeting-04-06-2022-2689
END:VEVENT

END:VCALENDAR
