BEGIN:VCALENDAR
VERSION:2.0
PRODID:-//ChamberMaster//Event Calendar 2.0//EN
METHOD:PUBLISH
X-PUBLISHED-TTL:P3D
REFRESH-INTERVAL:P3D
CALSCALE:GREGORIAN
BEGIN:VEVENT
DTSTART:20220407T120000Z
DTEND:20220407T140000Z
X-MICROSOFT-CDO-ALLDAYEVENT:FALSE
SUMMARY:Public Safety Breakfast
DESCRIPTION:Please join us for our monthly breakfast meeting where the topic will be Public Safety. Speakers will include:\n\n\n\nBayonne Chief of Police\, Robert Geisler\n\n\n\nBayonne Fire Chief\, Keith Weaver \n\n\n\nBayonne OEM Director\, Edoardo "Junior" Ferrante\n\n\n\nMcCabe Ambulance\, Chief Michael McCabe\n\n\n\nSpecial Guest - The Blue Magazine\, Daniel Del Valle
X-ALT-DESC;FMTTYPE=text/html:<strong><span style="font-size:12.0pt\;">Please join us for our monthly breakfast meeting where the topic will be Public Safety. Speakers will include:</span></strong><br />\n<br />\n<strong><span style="font-size:12.0pt\;">Bayonne Chief of Police\, Robert Geisler</span></strong><br />\n<br />\n<strong><span style="font-size:12.0pt\;">Bayonne Fire Chief\, Keith Weaver&nbsp\;</span></strong><br />\n<br />\n<strong><span style="font-size:12.0pt\;">Bayonne OEM Director\, Edoardo &quot\;Junior&quot\; Ferrante</span></strong><br />\n<br />\n<strong><span style="font-size:12.0pt\;">McCabe Ambulance\, Chief Michael McCabe</span></strong><br />\n<br />\n<strong><span style="font-size:12.0pt\;">Special Guest - The Blue Magazine\, Daniel Del Valle</span></strong>
LOCATION:Liz's Venue (Decor by Liz) 512 Broadway\, Bayonne
UID:e.604.2696
SEQUENCE:3
DTSTAMP:20260420T115106Z
URL:http://www.bayonnechamber.org/events/details/public-safety-breakfast-2696
END:VEVENT

END:VCALENDAR
